BEGIN:VCALENDAR
VERSION:2.0
PRODID:-//Fattoria della Felicità - ECPv6.15.15//NONSGML v1.0//EN
CALSCALE:GREGORIAN
METHOD:PUBLISH
X-WR-CALNAME:Fattoria della Felicità
X-ORIGINAL-URL:https://fattoriadellafelicita.it
X-WR-CALDESC:Eventi per Fattoria della Felicità
REFRESH-INTERVAL;VALUE=DURATION:PT1H
X-Robots-Tag:noindex
X-PUBLISHED-TTL:PT1H
BEGIN:VTIMEZONE
TZID:Europe/Rome
BEGIN:DAYLIGHT
TZOFFSETFROM:+0100
TZOFFSETTO:+0200
TZNAME:CEST
DTSTART:20240331T010000
END:DAYLIGHT
BEGIN:STANDARD
TZOFFSETFROM:+0200
TZOFFSETTO:+0100
TZNAME:CET
DTSTART:20241027T010000
END:STANDARD
BEGIN:DAYLIGHT
TZOFFSETFROM:+0100
TZOFFSETTO:+0200
TZNAME:CEST
DTSTART:20250330T010000
END:DAYLIGHT
BEGIN:STANDARD
TZOFFSETFROM:+0200
TZOFFSETTO:+0100
TZNAME:CET
DTSTART:20251026T010000
END:STANDARD
BEGIN:DAYLIGHT
TZOFFSETFROM:+0100
TZOFFSETTO:+0200
TZNAME:CEST
DTSTART:20260329T010000
END:DAYLIGHT
BEGIN:STANDARD
TZOFFSETFROM:+0200
TZOFFSETTO:+0100
TZNAME:CET
DTSTART:20261025T010000
END:STANDARD
END:VTIMEZONE
BEGIN:VEVENT
DTSTART;TZID=Europe/Rome:20251109T150000
DTEND;TZID=Europe/Rome:20251109T160000
DTSTAMP:20260423T211227
CREATED:20240309T131909Z
LAST-MODIFIED:20250923T080620Z
UID:902-1762700400-1762704000@fattoriadellafelicita.it
SUMMARY:Pony games
DESCRIPTION:Con il laboratorio “Pony Games” i bambini dai 2 ai 6 anni possono immergersi nell’affascinante mondo dei pony e delle attività all’aria aperta. Questa attività offre un’esperienza educativa e interattiva che incoraggia l’apprendimento attraverso il gioco e il contatto diretto con gli animali.
URL:https://fattoriadellafelicita.it/evento/pony-games-4/
LOCATION:fattoria della felicità
ATTACH;FMTTYPE=image/jpeg:https://fattoriadellafelicita.it/wp-content/uploads/2024/02/1000125039_e2cd0fd7388cef42b11a30d1b6cb0831-09_09_2025-21_35_39-scaled-e1758611711807.jpg
END:VEVENT
END:VCALENDAR