BEGIN:VCALENDAR
VERSION:2.0
PRODID:-//Fattoria della Felicità - ECPv6.15.15//NONSGML v1.0//EN
CALSCALE:GREGORIAN
METHOD:PUBLISH
X-ORIGINAL-URL:https://fattoriadellafelicita.it
X-WR-CALDESC:Eventi per Fattoria della Felicità
REFRESH-INTERVAL;VALUE=DURATION:PT1H
X-Robots-Tag:noindex
X-PUBLISHED-TTL:PT1H
BEGIN:VTIMEZONE
TZID:Europe/Rome
BEGIN:DAYLIGHT
TZOFFSETFROM:+0100
TZOFFSETTO:+0200
TZNAME:CEST
DTSTART:20240331T010000
END:DAYLIGHT
BEGIN:STANDARD
TZOFFSETFROM:+0200
TZOFFSETTO:+0100
TZNAME:CET
DTSTART:20241027T010000
END:STANDARD
BEGIN:DAYLIGHT
TZOFFSETFROM:+0100
TZOFFSETTO:+0200
TZNAME:CEST
DTSTART:20250330T010000
END:DAYLIGHT
BEGIN:STANDARD
TZOFFSETFROM:+0200
TZOFFSETTO:+0100
TZNAME:CET
DTSTART:20251026T010000
END:STANDARD
BEGIN:DAYLIGHT
TZOFFSETFROM:+0100
TZOFFSETTO:+0200
TZNAME:CEST
DTSTART:20260329T010000
END:DAYLIGHT
BEGIN:STANDARD
TZOFFSETFROM:+0200
TZOFFSETTO:+0100
TZNAME:CET
DTSTART:20261025T010000
END:STANDARD
END:VTIMEZONE
BEGIN:VEVENT
DTSTART;TZID=Europe/Rome:20251213T143000
DTEND;TZID=Europe/Rome:20251213T153000
DTSTAMP:20260423T194210
CREATED:20250923T080929Z
LAST-MODIFIED:20250923T080929Z
UID:16210-1765636200-1765639800@fattoriadellafelicita.it
SUMMARY:Mani in Pasta
DESCRIPTION:Benvenuti al laboratorio didattico “Mani in Pasta in Fattoria”! Un’esperienza avvincente e gustosa che permetterà ai bambini dai 2  anni in avanti di esplorare il magico mondo della pasta fresca partendo dalla semplice farina e dalle uova fresche della fattoria. \nDescrizione dell’evento –> qui
URL:https://fattoriadellafelicita.it/evento/mani-in-pasta-4/
LOCATION:fattoria della felicità
ATTACH;FMTTYPE=image/jpeg:https://fattoriadellafelicita.it/wp-content/uploads/2022/12/laboratori-didattici-famiglie-fattoria-fare-il-pane-e1758613453892.jpg
END:VEVENT
END:VCALENDAR