BEGIN:VCALENDAR
VERSION:2.0
PRODID:-//Fattoria della Felicità - ECPv6.15.15//NONSGML v1.0//EN
CALSCALE:GREGORIAN
METHOD:PUBLISH
X-ORIGINAL-URL:https://fattoriadellafelicita.it
X-WR-CALDESC:Eventi per Fattoria della Felicità
REFRESH-INTERVAL;VALUE=DURATION:PT1H
X-Robots-Tag:noindex
X-PUBLISHED-TTL:PT1H
BEGIN:VTIMEZONE
TZID:Europe/Rome
BEGIN:DAYLIGHT
TZOFFSETFROM:+0100
TZOFFSETTO:+0200
TZNAME:CEST
DTSTART:20240331T010000
END:DAYLIGHT
BEGIN:STANDARD
TZOFFSETFROM:+0200
TZOFFSETTO:+0100
TZNAME:CET
DTSTART:20241027T010000
END:STANDARD
BEGIN:DAYLIGHT
TZOFFSETFROM:+0100
TZOFFSETTO:+0200
TZNAME:CEST
DTSTART:20250330T010000
END:DAYLIGHT
BEGIN:STANDARD
TZOFFSETFROM:+0200
TZOFFSETTO:+0100
TZNAME:CET
DTSTART:20251026T010000
END:STANDARD
BEGIN:DAYLIGHT
TZOFFSETFROM:+0100
TZOFFSETTO:+0200
TZNAME:CEST
DTSTART:20260329T010000
END:DAYLIGHT
BEGIN:STANDARD
TZOFFSETFROM:+0200
TZOFFSETTO:+0100
TZNAME:CET
DTSTART:20261025T010000
END:STANDARD
END:VTIMEZONE
BEGIN:VEVENT
DTSTART;TZID=Europe/Rome:20251004T100000
DTEND;TZID=Europe/Rome:20251004T120000
DTSTAMP:20260423T211433
CREATED:20250922T171709Z
LAST-MODIFIED:20250922T171709Z
UID:16123-1759572000-1759579200@fattoriadellafelicita.it
SUMMARY:Cooking class orobica
DESCRIPTION:Partendo dalla farina e dalle uova\, andremo a preparare tagliatelle\, ravioli\, casoncelli e paste colorate per poi cuocerle nella cucina dell’agriturismo e degustarle per pranzo \nLa cooking class sarà accompagnata da una degustazione di salumi e formaggi prodotti dalla fattoria. (compreso acqua\, dolce e caffè\, escluso vino) \nProgramma dell’attività –> qui \nESPERIENZA RISERVATA AD ADULTI (>14 ANNI)
URL:https://fattoriadellafelicita.it/evento/cooking-class-orobica-8/
LOCATION:fattoria della felicità
ATTACH;FMTTYPE=image/jpeg:https://fattoriadellafelicita.it/wp-content/uploads/2023/03/IMG-20240130-WA0033-e1758610037134.jpg
END:VEVENT
BEGIN:VEVENT
DTSTART;TZID=Europe/Rome:20251005T093000
DTEND;TZID=Europe/Rome:20251005T170000
DTSTAMP:20260423T211433
CREATED:20240309T140058Z
LAST-MODIFIED:20250922T154021Z
UID:908-1759656600-1759683600@fattoriadellafelicita.it
SUMMARY:Una giornata da contadino!
DESCRIPTION:In una vera fattoria immersa nel verde delle Prealpi Orobiche potrai vivere un’intera giornata da contadino a contatto con la natura e le attività rurali. Scopri cosa sta dietro le quinte di una fattoria con agriturismo direttamente da chi ci vive tutti i giorni! \nESPERIENZA RISERVATA AD ADULTI (>14 anni) \n  \nProgramma e descrizione della giornata –> qui
URL:https://fattoriadellafelicita.it/evento/una-giornata-da-contadino-2/
LOCATION:fattoria della felicità
ATTACH;FMTTYPE=image/jpeg:https://fattoriadellafelicita.it/wp-content/uploads/2023/03/20240831_104528-scaled-e1758609844642.jpg
END:VEVENT
BEGIN:VEVENT
DTSTART;TZID=Europe/Rome:20251011T100000
DTEND;TZID=Europe/Rome:20251011T120000
DTSTAMP:20260423T211433
CREATED:20240309T134926Z
LAST-MODIFIED:20250922T171049Z
UID:905-1760176800-1760184000@fattoriadellafelicita.it
SUMMARY:Cooking class orobica
DESCRIPTION:Partendo dalla farina e dalle uova\, andremo a preparare tagliatelle\, ravioli\, casoncelli e paste colorate per poi cuocerle nella cucina dell’agriturismo e degustarle per pranzo \nLa cooking class sarà accompagnata da una degustazione di salumi e formaggi prodotti dalla fattoria. (compreso acqua\, dolce e caffè\, escluso vino) \nProgramma dell’attività –> qui \nESPERIENZA RISERVATA AD ADULTI (>14 ANNI)
URL:https://fattoriadellafelicita.it/evento/cooking-class-orobica/
LOCATION:fattoria della felicità
ATTACH;FMTTYPE=image/jpeg:https://fattoriadellafelicita.it/wp-content/uploads/2023/03/IMG-20240130-WA0033-e1758610037134.jpg
END:VEVENT
BEGIN:VEVENT
DTSTART;TZID=Europe/Rome:20251012T103000
DTEND;TZID=Europe/Rome:20251012T170000
DTSTAMP:20260423T211433
CREATED:20250701T171000Z
LAST-MODIFIED:20250922T170639Z
UID:16024-1760265000-1760288400@fattoriadellafelicita.it
SUMMARY:Family farm: tutta la famiglia in fattoria!
DESCRIPTION:Vuoi regalare ai tuoi bambini un’esperienza autentica a contatto con la natura e gli animali? \nFattoria della Felicità apre le sue porte per una giornata pensata per divertire e coinvolgere tutta la famiglia\, grandi e piccini\, dai 2 anni in su\, all’aria aperta e in compagnia! \n  \nScopri i dettagli\, il programma e i costi cliccando qui.
URL:https://fattoriadellafelicita.it/evento/famiglia-in-fattoria/
LOCATION:fattoria della felicità
ATTACH;FMTTYPE=image/jpeg:https://fattoriadellafelicita.it/wp-content/uploads/2022/11/asinello-e1758609956172.jpg
END:VEVENT
BEGIN:VEVENT
DTSTART;TZID=Europe/Rome:20251026T103000
DTEND;TZID=Europe/Rome:20251026T170000
DTSTAMP:20260423T211433
CREATED:20250922T173353Z
LAST-MODIFIED:20250923T063451Z
UID:16136-1761474600-1761498000@fattoriadellafelicita.it
SUMMARY:Family farm: tutta la famiglia in fattoria! Halloween edition
DESCRIPTION:Vuoi regalare ai tuoi bambini un’esperienza autentica a contatto con la natura e gli animali? \nFattoria della Felicità apre le sue porte per una giornata pensata per divertire e coinvolgere tutta la famiglia\, grandi e piccini\, dai 2 anni in su\, all’aria aperta e in compagnia! \nNel pomeriggio prepareremo la zucca di Halloween! \n  \nScopri i dettagli\, il programma e i costi cliccando qui.
URL:https://fattoriadellafelicita.it/evento/famiglia-in-fattoria-halloween/
LOCATION:fattoria della felicità
ATTACH;FMTTYPE=image/jpeg:https://fattoriadellafelicita.it/wp-content/uploads/2025/09/crea-un-immagine-di-bambini-in-fattoria-che-preparano-la-zucca-di-halloween-con-cavalli-e-asini-sullo-sfondo-in-un-campo-di-erba-con-ballette-di-fieno-e1758610098635.jpg
END:VEVENT
END:VCALENDAR