BEGIN:VCALENDAR
VERSION:2.0
PRODID:-//Fattoria della Felicità - ECPv6.15.15//NONSGML v1.0//EN
CALSCALE:GREGORIAN
METHOD:PUBLISH
X-ORIGINAL-URL:https://fattoriadellafelicita.it
X-WR-CALDESC:Eventi per Fattoria della Felicità
REFRESH-INTERVAL;VALUE=DURATION:PT1H
X-Robots-Tag:noindex
X-PUBLISHED-TTL:PT1H
BEGIN:VTIMEZONE
TZID:Europe/Rome
BEGIN:DAYLIGHT
TZOFFSETFROM:+0100
TZOFFSETTO:+0200
TZNAME:CEST
DTSTART:20250330T010000
END:DAYLIGHT
BEGIN:STANDARD
TZOFFSETFROM:+0200
TZOFFSETTO:+0100
TZNAME:CET
DTSTART:20251026T010000
END:STANDARD
BEGIN:DAYLIGHT
TZOFFSETFROM:+0100
TZOFFSETTO:+0200
TZNAME:CEST
DTSTART:20260329T010000
END:DAYLIGHT
BEGIN:STANDARD
TZOFFSETFROM:+0200
TZOFFSETTO:+0100
TZNAME:CET
DTSTART:20261025T010000
END:STANDARD
BEGIN:DAYLIGHT
TZOFFSETFROM:+0100
TZOFFSETTO:+0200
TZNAME:CEST
DTSTART:20270328T010000
END:DAYLIGHT
BEGIN:STANDARD
TZOFFSETFROM:+0200
TZOFFSETTO:+0100
TZNAME:CET
DTSTART:20271031T010000
END:STANDARD
END:VTIMEZONE
BEGIN:VEVENT
DTSTART;TZID=Europe/Rome:20260308T103000
DTEND;TZID=Europe/Rome:20260308T170000
DTSTAMP:20260423T131245
CREATED:20250923T065200Z
LAST-MODIFIED:20260118T093646Z
UID:16176-1772965800-1772989200@fattoriadellafelicita.it
SUMMARY:Family farm: tutta la famiglia in fattoria!
DESCRIPTION:Vuoi regalare ai tuoi bambini un’esperienza autentica a contatto con la natura e gli animali? \nFattoria della Felicità apre le sue porte per una giornata pensata per divertire e coinvolgere tutta la famiglia\, grandi e piccini\, dai 2 anni in su\, all’aria aperta e in compagnia! \n  \nScopri i dettagli\, il programma e i costi cliccando qui.
URL:https://fattoriadellafelicita.it/evento/family-farm-tutta-la-famiglia-in-fattoria-3/
LOCATION:fattoria della felicità
ATTACH;FMTTYPE=image/jpeg:https://fattoriadellafelicita.it/wp-content/uploads/2022/11/asinello-e1758609956172.jpg
END:VEVENT
BEGIN:VEVENT
DTSTART;TZID=Europe/Rome:20260329T100000
DTEND;TZID=Europe/Rome:20260329T120000
DTSTAMP:20260423T131245
CREATED:20250923T065108Z
LAST-MODIFIED:20260324T085012Z
UID:16174-1774778400-1774785600@fattoriadellafelicita.it
SUMMARY:Cooking class orobica
DESCRIPTION:Partendo dalla farina e dalle uova\, andremo a preparare tagliatelle\, ravioli\, casoncelli e paste colorate per poi cuocerle nella cucina dell’agriturismo e degustarle per pranzo \nLa cooking class sarà accompagnata da una degustazione di salumi e formaggi prodotti dalla fattoria. (compreso acqua\, dolce e caffè\, escluso vino) \nProgramma dell’attività –> qui \nESPERIENZA RISERVATA AD ADULTI (>14 ANNI)
URL:https://fattoriadellafelicita.it/evento/cooking-class-orobica-5/
LOCATION:fattoria della felicità
ATTACH;FMTTYPE=image/jpeg:https://fattoriadellafelicita.it/wp-content/uploads/2023/03/IMG-20240130-WA0033-e1758610037134.jpg
END:VEVENT
BEGIN:VEVENT
DTSTART;TZID=Europe/Rome:20260329T103000
DTEND;TZID=Europe/Rome:20260329T170000
DTSTAMP:20260423T131245
CREATED:20250922T192725Z
LAST-MODIFIED:20260210T092525Z
UID:16161-1774780200-1774803600@fattoriadellafelicita.it
SUMMARY:Family farm: tutta la famiglia in fattoria!
DESCRIPTION:Vuoi regalare ai tuoi bambini un’esperienza autentica a contatto con la natura e gli animali? \nFattoria della Felicità apre le sue porte per una giornata pensata per divertire e coinvolgere tutta la famiglia\, grandi e piccini\, dai 2 anni in su\, all’aria aperta e in compagnia! \n  \nScopri i dettagli\, il programma e i costi cliccando qui.
URL:https://fattoriadellafelicita.it/evento/family-farm-tutta-la-famiglia-in-fattoria-2/
LOCATION:fattoria della felicità
ATTACH;FMTTYPE=image/jpeg:https://fattoriadellafelicita.it/wp-content/uploads/2022/11/asinello-e1758609956172.jpg
END:VEVENT
END:VCALENDAR