BEGIN:VCALENDAR
VERSION:2.0
PRODID:-//Fattoria della Felicità - ECPv6.15.15//NONSGML v1.0//EN
CALSCALE:GREGORIAN
METHOD:PUBLISH
X-ORIGINAL-URL:https://fattoriadellafelicita.it
X-WR-CALDESC:Eventi per Fattoria della Felicità
REFRESH-INTERVAL;VALUE=DURATION:PT1H
X-Robots-Tag:noindex
X-PUBLISHED-TTL:PT1H
BEGIN:VTIMEZONE
TZID:Europe/Rome
BEGIN:DAYLIGHT
TZOFFSETFROM:+0100
TZOFFSETTO:+0200
TZNAME:CEST
DTSTART:20230326T010000
END:DAYLIGHT
BEGIN:STANDARD
TZOFFSETFROM:+0200
TZOFFSETTO:+0100
TZNAME:CET
DTSTART:20231029T010000
END:STANDARD
BEGIN:DAYLIGHT
TZOFFSETFROM:+0100
TZOFFSETTO:+0200
TZNAME:CEST
DTSTART:20240331T010000
END:DAYLIGHT
BEGIN:STANDARD
TZOFFSETFROM:+0200
TZOFFSETTO:+0100
TZNAME:CET
DTSTART:20241027T010000
END:STANDARD
BEGIN:DAYLIGHT
TZOFFSETFROM:+0100
TZOFFSETTO:+0200
TZNAME:CEST
DTSTART:20250330T010000
END:DAYLIGHT
BEGIN:STANDARD
TZOFFSETFROM:+0200
TZOFFSETTO:+0100
TZNAME:CET
DTSTART:20251026T010000
END:STANDARD
END:VTIMEZONE
BEGIN:VEVENT
DTSTART;TZID=Europe/Rome:20241230T110000
DTEND;TZID=Europe/Rome:20241230T120000
DTSTAMP:20260425T051448
CREATED:20240301T154621Z
LAST-MODIFIED:20241127T172729Z
UID:889-1735556400-1735560000@fattoriadellafelicita.it
SUMMARY:Ali felici
DESCRIPTION:Nel laboratorio didattico “Ali felici” i bambini avranno l’opportunità di apprendere quali sono i semi e gli ingredienti migliori per preparare palline energetiche adatte agli uccellini. \nPer la prenotazione chiama o invia un wapp al 3286851751
URL:https://fattoriadellafelicita.it/evento/ali-felici/
ATTACH;FMTTYPE=image/webp:https://fattoriadellafelicita.it/wp-content/uploads/2024/02/uccellino-semini.webp
END:VEVENT
END:VCALENDAR